BEGIN:VCALENDAR
VERSION:2.0
PRODID:-//Biolandbaumschule Frank Wetzel - ECPv6.13.2.1//NONSGML v1.0//EN
CALSCALE:GREGORIAN
METHOD:PUBLISH
X-ORIGINAL-URL:http://www.biolandbaumschule.de
X-WR-CALDESC:Veranstaltungen für Biolandbaumschule Frank Wetzel
REFRESH-INTERVAL;VALUE=DURATION:PT1H
X-Robots-Tag:noindex
X-PUBLISHED-TTL:PT1H
BEGIN:VTIMEZONE
TZID:UTC
BEGIN:STANDARD
TZOFFSETFROM:+0000
TZOFFSETTO:+0000
TZNAME:UTC
DTSTART:20240101T000000
END:STANDARD
END:VTIMEZONE
BEGIN:VEVENT
DTSTART;TZID=UTC:20241018T100000
DTEND;TZID=UTC:20241020T180000
DTSTAMP:20260424T124846
CREATED:20240805T143217Z
LAST-MODIFIED:20240805T143429Z
UID:4277-1729245600-1729447200@www.biolandbaumschule.de
SUMMARY:Herbstzauber Krefeld
DESCRIPTION:
URL:http://www.biolandbaumschule.de/event/herbstzauber/
LOCATION:Krefeld\, Rennbahn\, Krefeld\, 47800
END:VEVENT
END:VCALENDAR