BEGIN:VCALENDAR
VERSION:2.0
PRODID:-//Biolandbaumschule Frank Wetzel - ECPv6.13.2.1//NONSGML v1.0//EN
CALSCALE:GREGORIAN
METHOD:PUBLISH
X-WR-CALNAME:Biolandbaumschule Frank Wetzel
X-ORIGINAL-URL:http://www.biolandbaumschule.de
X-WR-CALDESC:Veranstaltungen für Biolandbaumschule Frank Wetzel
REFRESH-INTERVAL;VALUE=DURATION:PT1H
X-Robots-Tag:noindex
X-PUBLISHED-TTL:PT1H
BEGIN:VTIMEZONE
TZID:UTC
BEGIN:STANDARD
TZOFFSETFROM:+0000
TZOFFSETTO:+0000
TZNAME:UTC
DTSTART:20250101T000000
END:STANDARD
END:VTIMEZONE
BEGIN:VEVENT
DTSTART;VALUE=DATE:20250221
DTEND;VALUE=DATE:20250224
DTSTAMP:20260424T155432
CREATED:20250113T143434Z
LAST-MODIFIED:20250114T141741Z
UID:4336-1740096000-1740355199@www.biolandbaumschule.de
SUMMARY:Gartenträume Magdeburg
DESCRIPTION:
URL:http://www.biolandbaumschule.de/event/gartentraeume-magdeburg-4/
LOCATION:Magdeburg\, Magdeburg\, 39114
CATEGORIES:Ausstellung,Pflanzenmarkt
END:VEVENT
END:VCALENDAR