BEGIN:VCALENDAR
VERSION:2.0
PRODID:-//Biolandbaumschule Frank Wetzel - ECPv6.13.2.1//NONSGML v1.0//EN
CALSCALE:GREGORIAN
METHOD:PUBLISH
X-WR-CALNAME:Biolandbaumschule Frank Wetzel
X-ORIGINAL-URL:http://www.biolandbaumschule.de
X-WR-CALDESC:Veranstaltungen für Biolandbaumschule Frank Wetzel
REFRESH-INTERVAL;VALUE=DURATION:PT1H
X-Robots-Tag:noindex
X-PUBLISHED-TTL:PT1H
BEGIN:VTIMEZONE
TZID:UTC
BEGIN:STANDARD
TZOFFSETFROM:+0000
TZOFFSETTO:+0000
TZNAME:UTC
DTSTART:20250101T000000
END:STANDARD
END:VTIMEZONE
BEGIN:VEVENT
DTSTART;VALUE=DATE:20250228
DTEND;VALUE=DATE:20250303
DTSTAMP:20260424T155604
CREATED:20250113T143711Z
LAST-MODIFIED:20250114T141644Z
UID:4339-1740700800-1740959999@www.biolandbaumschule.de
SUMMARY:Gartenträume Halle
DESCRIPTION:
URL:http://www.biolandbaumschule.de/event/gartentraeume-halle-2/
LOCATION:Halle\, Messe Halle\, Halle\, Sachsen-Anhalt\, 06166
CATEGORIES:Ausstellung,Pflanzenmarkt
END:VEVENT
BEGIN:VEVENT
DTSTART;VALUE=DATE:20250321
DTEND;VALUE=DATE:20250324
DTSTAMP:20260424T155604
CREATED:20250203T144146Z
LAST-MODIFIED:20250203T151734Z
UID:4368-1742515200-1742774399@www.biolandbaumschule.de
SUMMARY:Gartenlust Neufraunhofen
DESCRIPTION:
URL:http://www.biolandbaumschule.de/event/gartenlust-18/
LOCATION:Neufraunhofen\, Schloss Neufraunhofen Hofmark 4-6\, Neufraunhofen\, 84181\, Germany
CATEGORIES:Gartenfest,Pflanzenmarkt
ORGANIZER;CN="LOCO":MAILTO:info@gartenlust.eu
END:VEVENT
BEGIN:VEVENT
DTSTART;VALUE=DATE:20250328
DTEND;VALUE=DATE:20250331
DTSTAMP:20260424T155604
CREATED:20250113T144021Z
LAST-MODIFIED:20250114T141526Z
UID:4342-1743120000-1743379199@www.biolandbaumschule.de
SUMMARY:Gartenlust Kloster Lorch
DESCRIPTION:
URL:http://www.biolandbaumschule.de/event/gartenlust-kloster-lorch-3/
LOCATION:Kloster Lorch\, Klosterstr.2\, Lorch\, 73547\, Deutschland
CATEGORIES:Ausstellung,Pflanzenmarkt
ORGANIZER;CN="LOCO":MAILTO:info@gartenlust.eu
END:VEVENT
END:VCALENDAR