BEGIN:VCALENDAR
VERSION:2.0
PRODID:-//Biolandbaumschule Frank Wetzel - ECPv6.13.2.1//NONSGML v1.0//EN
CALSCALE:GREGORIAN
METHOD:PUBLISH
X-WR-CALNAME:Biolandbaumschule Frank Wetzel
X-ORIGINAL-URL:http://www.biolandbaumschule.de
X-WR-CALDESC:Veranstaltungen für Biolandbaumschule Frank Wetzel
REFRESH-INTERVAL;VALUE=DURATION:PT1H
X-Robots-Tag:noindex
X-PUBLISHED-TTL:PT1H
BEGIN:VTIMEZONE
TZID:UTC
BEGIN:STANDARD
TZOFFSETFROM:+0000
TZOFFSETTO:+0000
TZNAME:UTC
DTSTART:20250101T000000
END:STANDARD
END:VTIMEZONE
BEGIN:VEVENT
DTSTART;VALUE=DATE:20250405
DTEND;VALUE=DATE:20250407
DTSTAMP:20260424T173027
CREATED:20250113T144258Z
LAST-MODIFIED:20250114T142108Z
UID:4344-1743811200-1743983999@www.biolandbaumschule.de
SUMMARY:Gartenmarkt Sobernheim
DESCRIPTION:
URL:http://www.biolandbaumschule.de/event/gartenmarkt-sobernheim/
LOCATION:Bad Sobernheim\, Freilichtmuseum\, Bad Sobernheim\, 55566
CATEGORIES:Pflanzenmarkt,Pflanzenraritätenmarkt
END:VEVENT
BEGIN:VEVENT
DTSTART;VALUE=DATE:20250411
DTEND;VALUE=DATE:20250414
DTSTAMP:20260424T173027
CREATED:20250113T144657Z
LAST-MODIFIED:20250113T144657Z
UID:4346-1744329600-1744588799@www.biolandbaumschule.de
SUMMARY:Gartenlust Schloss Dürrenmungenau
DESCRIPTION:
URL:http://www.biolandbaumschule.de/event/gartenlust-schloss-duerrenmungenau/
LOCATION:Schloss Dürrenumgenau\, Schlossallee 1\, Abenberg\, 91183\, Deutschland
CATEGORIES:Gartenfest,Pflanzenmarkt
ORGANIZER;CN="LOCO":MAILTO:info@gartenlust.eu
END:VEVENT
BEGIN:VEVENT
DTSTART;VALUE=DATE:20250426
DTEND;VALUE=DATE:20250428
DTSTAMP:20260424T173027
CREATED:20250113T145007Z
LAST-MODIFIED:20250113T145007Z
UID:4348-1745625600-1745798399@www.biolandbaumschule.de
SUMMARY:Raritätenmarkt GRUGA
DESCRIPTION:
URL:http://www.biolandbaumschule.de/event/raritaetenmarkt-gruga-2/
LOCATION:Gruga-Park Essen\, Virchowstr. 167a\, Essen\, 45147\, Deutschland
CATEGORIES:Pflanzenmarkt,Pflanzenraritätenmarkt
END:VEVENT
END:VCALENDAR