BEGIN:VCALENDAR
VERSION:2.0
PRODID:-//Biolandbaumschule Frank Wetzel - ECPv6.13.2.1//NONSGML v1.0//EN
CALSCALE:GREGORIAN
METHOD:PUBLISH
X-ORIGINAL-URL:http://www.biolandbaumschule.de
X-WR-CALDESC:Veranstaltungen für Biolandbaumschule Frank Wetzel
REFRESH-INTERVAL;VALUE=DURATION:PT1H
X-Robots-Tag:noindex
X-PUBLISHED-TTL:PT1H
BEGIN:VTIMEZONE
TZID:UTC
BEGIN:STANDARD
TZOFFSETFROM:+0000
TZOFFSETTO:+0000
TZNAME:UTC
DTSTART:20230101T000000
END:STANDARD
END:VTIMEZONE
BEGIN:VEVENT
DTSTART;VALUE=DATE:20230518
DTEND;VALUE=DATE:20230522
DTSTAMP:20260423T120353
CREATED:20230314T112354Z
LAST-MODIFIED:20230512T133906Z
UID:3935-1684368000-1684713599@www.biolandbaumschule.de
SUMMARY:Fürstliches Gartenfest Schloß Fasanerie bei Fulda
DESCRIPTION:Das Fürstliche Gartenfest\n\n\n\nDie Internationale Verkaufsausstellung präsentiert jährlich all das\, was Gartenfreunde und Liebhaber der ländlichen Lebensart erfreut. Die große Vielfalt an Pflanzen\, Nützlichem und Schönem für den Garten\, die herrlichen Schaugärten und die vielen informativen Vorträge machen den Besuch zu einem Erlebnis. Umrahmt von Musik und Kleinkunst wird das Gartenfest jedes Jahr wieder zu einem fürstlichen Ereignis. \nbiolandbaumschule.de/…/Das-Fuerstliche-Gartenfest-Flyer-2023.pdf
URL:http://www.biolandbaumschule.de/event/fuerstliches-gartenfest-schloss-fasanerie-bei-fulda/
LOCATION:Schloß Fasanerie bei Fulda\, Eichenzell
CATEGORIES:Gartenfest,Pflanzenmarkt
END:VEVENT
END:VCALENDAR